BEGIN:VCALENDAR
VERSION:2.0
PRODID:-//Picnics Country Crafts - ECPv6.15.20//NONSGML v1.0//EN
CALSCALE:GREGORIAN
METHOD:PUBLISH
X-ORIGINAL-URL:https://picnicscc.com.au/wp
X-WR-CALDESC:Events for Picnics Country Crafts
REFRESH-INTERVAL;VALUE=DURATION:PT1H
X-Robots-Tag:noindex
X-PUBLISHED-TTL:PT1H
BEGIN:VTIMEZONE
TZID:Australia/Brisbane
BEGIN:STANDARD
TZOFFSETFROM:+1000
TZOFFSETTO:+1000
TZNAME:AEST
DTSTART:20170101T000000
END:STANDARD
END:VTIMEZONE
BEGIN:VEVENT
DTSTART;TZID=Australia/Brisbane:20181127T093000
DTEND;TZID=Australia/Brisbane:20181127T150000
DTSTAMP:20260425T120649
CREATED:20181119T073504Z
LAST-MODIFIED:20181119T073821Z
UID:712-1543311000-1543330800@picnicscc.com.au
SUMMARY:Janome Day
DESCRIPTION:Are you thinking of getting a new sewing machine for Christmas if you are dont miss this event. \nCome along to our Janome Day and have a try on the the new AT2000 overlocker and the Memory Craft 6700. We will also have the Janome educators in store to answer all your questions you may have. They will be demonstrating the Accuquilt system for the Memory Craft range of machines. \nDon’t miss this event so book now. There is a small $5 cover charge as morning tea will be provided.
URL:https://picnicscc.com.au/wp/event/janome-day-2/
LOCATION:Picnics Country Crafts\, 22 Owen St\, Innisfail\, Queensland\, 4860\, Australia
CATEGORIES:Events
ATTACH;FMTTYPE=image/jpeg:https://picnicscc.com.au/wp/wp-content/uploads/2018/11/2018.08-QPIC01-Janome-Day.jpg
ORGANIZER;CN="Nicole":MAILTO:Info@picnicscc.com.au
END:VEVENT
END:VCALENDAR