BEGIN:VCALENDAR
VERSION:2.0
PRODID:-//Picnics Country Crafts - ECPv6.15.20//NONSGML v1.0//EN
CALSCALE:GREGORIAN
METHOD:PUBLISH
X-WR-CALNAME:Picnics Country Crafts
X-ORIGINAL-URL:https://picnicscc.com.au/wp
X-WR-CALDESC:Events for Picnics Country Crafts
REFRESH-INTERVAL;VALUE=DURATION:PT1H
X-Robots-Tag:noindex
X-PUBLISHED-TTL:PT1H
BEGIN:VTIMEZONE
TZID:Australia/Brisbane
BEGIN:STANDARD
TZOFFSETFROM:+1000
TZOFFSETTO:+1000
TZNAME:AEST
DTSTART:20160101T000000
END:STANDARD
END:VTIMEZONE
BEGIN:VEVENT
DTSTART;TZID=Australia/Brisbane:20170701T090000
DTEND;TZID=Australia/Brisbane:20170701T170000
DTSTAMP:20260426T124531
CREATED:20170603T114227Z
LAST-MODIFIED:20170605T015939Z
UID:253-1498899600-1498928400@picnicscc.com.au
SUMMARY:Know your overlocker class
DESCRIPTION:
URL:https://picnicscc.com.au/wp/event/know-overlocker-class/
LOCATION:Picnics Country Crafts\, 22 Owen St\, Innisfail\, Queensland\, 4860\, Australia
CATEGORIES:Classes
ORGANIZER;CN="Nicole":MAILTO:Info@picnicscc.com.au
END:VEVENT
END:VCALENDAR