BEGIN:VCALENDAR
VERSION:2.0
PRODID:-//Picnics Country Crafts - ECPv6.15.20//NONSGML v1.0//EN
CALSCALE:GREGORIAN
METHOD:PUBLISH
X-ORIGINAL-URL:https://picnicscc.com.au/wp
X-WR-CALDESC:Events for Picnics Country Crafts
REFRESH-INTERVAL;VALUE=DURATION:PT1H
X-Robots-Tag:noindex
X-PUBLISHED-TTL:PT1H
BEGIN:VTIMEZONE
TZID:Australia/Brisbane
BEGIN:STANDARD
TZOFFSETFROM:+1000
TZOFFSETTO:+1000
TZNAME:AEST
DTSTART:20160101T000000
END:STANDARD
END:VTIMEZONE
BEGIN:VEVENT
DTSTART;TZID=Australia/Brisbane:20190511T093000
DTEND;TZID=Australia/Brisbane:20190511T123000
DTSTAMP:20260425T100323
CREATED:20190404T040620Z
LAST-MODIFIED:20190404T040642Z
UID:877-1557567000-1557577800@picnicscc.com.au
SUMMARY:Overlockers - Master The Basics
DESCRIPTION:This class we will teach you the basics about our overlocker. Do you get frustrated when threading your overlocker. Do you really understand your tensions and dont know how to adjust them. well this is class is for you. \nWhen you book you will be given the class requirements for the session. \nPurchase Tickets Here
URL:https://picnicscc.com.au/wp/event/overlockers-master-the-basics-4/
LOCATION:Picnics Country Crafts\, 22 Owen St\, Innisfail\, Queensland\, 4860\, Australia
CATEGORIES:Classes
ATTACH;FMTTYPE=image/jpeg:https://picnicscc.com.au/wp/wp-content/uploads/2019/02/Overlocker-Master-The-Basics-2019-v2-e1549344122528.jpg
END:VEVENT
BEGIN:VEVENT
DTSTART;TZID=Australia/Brisbane:20190410T093000
DTEND;TZID=Australia/Brisbane:20190410T123000
DTSTAMP:20260425T100323
CREATED:20190320T072019Z
LAST-MODIFIED:20190320T234211Z
UID:873-1554888600-1554899400@picnicscc.com.au
SUMMARY:Overlockers - Master The Basics
DESCRIPTION:This class we will teach you the basics about our overlocker. Do you get frustrated when threading your overlocker. Do you really understand your tensions and dont know how to adjust them. well this is class is for you. \nWhen you book you will be given the class requirements for the session. \nPurchase Tickets Here
URL:https://picnicscc.com.au/wp/event/overlockers-master-the-basics-3/
LOCATION:Picnics Country Crafts\, 22 Owen St\, Innisfail\, Queensland\, 4860\, Australia
CATEGORIES:Classes
ATTACH;FMTTYPE=image/jpeg:https://picnicscc.com.au/wp/wp-content/uploads/2019/02/Overlocker-Master-The-Basics-2019-v2-e1549344122528.jpg
END:VEVENT
BEGIN:VEVENT
DTSTART;TZID=Australia/Brisbane:20190316T093000
DTEND;TZID=Australia/Brisbane:20190316T123000
DTSTAMP:20260425T100323
CREATED:20190205T052314Z
LAST-MODIFIED:20190213T003356Z
UID:858-1552728600-1552739400@picnicscc.com.au
SUMMARY:Overlockers - Master The Basics
DESCRIPTION:This class we will teach you the basics about our overlocker. Do you get frustrated when threading your overlocker. Do you really understand your tensions and dont know how to adjust them. well this is class is for you. \nWhen you book you will be given the class requirements for the session. \nPurchase Tickets Here
URL:https://picnicscc.com.au/wp/event/overlockers-master-the-basics-2/
LOCATION:Picnics Country Crafts\, 22 Owen St\, Innisfail\, Queensland\, 4860\, Australia
CATEGORIES:Classes
ATTACH;FMTTYPE=image/jpeg:https://picnicscc.com.au/wp/wp-content/uploads/2019/02/Overlocker-Master-The-Basics-2019-v2-e1549344122528.jpg
ORGANIZER;CN="Nicole":MAILTO:Info@picnicscc.com.au
END:VEVENT
BEGIN:VEVENT
DTSTART;TZID=Australia/Brisbane:20190215T093000
DTEND;TZID=Australia/Brisbane:20190215T123000
DTSTAMP:20260425T100323
CREATED:20190205T051907Z
LAST-MODIFIED:20190205T051907Z
UID:855-1550223000-1550233800@picnicscc.com.au
SUMMARY:Overlockers - Master The Basics
DESCRIPTION:This class we will teach you the basics about our overlocker. Do you get frustrated when threading your overlocker. Do you really understand your tensions and dont know how to adjust them. well this is class is for you. \nWhen you book you will be given the class requirements for the session.
URL:https://picnicscc.com.au/wp/event/overlockers-master-the-basics/
LOCATION:Picnics Country Crafts\, 22 Owen St\, Innisfail\, Queensland\, 4860\, Australia
CATEGORIES:Classes
ATTACH;FMTTYPE=image/jpeg:https://picnicscc.com.au/wp/wp-content/uploads/2019/02/Overlocker-Master-The-Basics-2019-v2-e1549344122528.jpg
ORGANIZER;CN="Nicole":MAILTO:Info@picnicscc.com.au
END:VEVENT
BEGIN:VEVENT
DTSTART;TZID=Australia/Brisbane:20180322T093000
DTEND;TZID=Australia/Brisbane:20180322T153000
DTSTAMP:20260425T100323
CREATED:20180316T012458Z
LAST-MODIFIED:20180316T012731Z
UID:669-1521711000-1521732600@picnicscc.com.au
SUMMARY:Free PFAFF Creative Day
DESCRIPTION:Come along and meet new friends and enjoy a cup of tea or coffee. Cath Quinlan will be here from PFAFF to show you through hoe to use some of the feet for the  sewing machines. See how easy it is to get that extra bit of creativity done on the project that you are working on. Are you thinking of buying a new machine then we will our full range of machines on display for you to try. We will have some great specials on machines and accessories as well. You might even get a free gift. \nBook Now as places are limited..
URL:https://picnicscc.com.au/wp/event/free-pfaff-creative-day/
LOCATION:Picnics Country Crafts\, 22 Owen St\, Innisfail\, Queensland\, 4860\, Australia
CATEGORIES:Classes
END:VEVENT
BEGIN:VEVENT
DTSTART;TZID=Australia/Brisbane:20170701T090000
DTEND;TZID=Australia/Brisbane:20170701T170000
DTSTAMP:20260425T100323
CREATED:20170603T114227Z
LAST-MODIFIED:20170605T015939Z
UID:253-1498899600-1498928400@picnicscc.com.au
SUMMARY:Know your overlocker class
DESCRIPTION:
URL:https://picnicscc.com.au/wp/event/know-overlocker-class/
LOCATION:Picnics Country Crafts\, 22 Owen St\, Innisfail\, Queensland\, 4860\, Australia
CATEGORIES:Classes
ORGANIZER;CN="Nicole":MAILTO:Info@picnicscc.com.au
END:VEVENT
END:VCALENDAR